BEGIN:VCALENDAR
VERSION:2.0
PRODID:-//South African Institute of Foundrymen - ECPv6.15.20//NONSGML v1.0//EN
CALSCALE:GREGORIAN
METHOD:PUBLISH
X-WR-CALNAME:South African Institute of Foundrymen
X-ORIGINAL-URL:https://foundries.org.za
X-WR-CALDESC:Events for South African Institute of Foundrymen
REFRESH-INTERVAL;VALUE=DURATION:PT1H
X-Robots-Tag:noindex
X-PUBLISHED-TTL:PT1H
BEGIN:VTIMEZONE
TZID:Africa/Johannesburg
BEGIN:STANDARD
TZOFFSETFROM:+0200
TZOFFSETTO:+0200
TZNAME:SAST
DTSTART:20240101T000000
END:STANDARD
END:VTIMEZONE
BEGIN:VEVENT
DTSTART;TZID=Africa/Johannesburg:20250405T080000
DTEND;TZID=Africa/Johannesburg:20250405T120000
DTSTAMP:20260424T153041
CREATED:20250206T193235Z
LAST-MODIFIED:20250206T193627Z
UID:14666-1743840000-1743854400@foundries.org.za
SUMMARY:SAIF TRAINING PROGRAM DAY 8
DESCRIPTION:Registrations closed \n\n\n\n08 February – 10 MaySaturdays: 08:00 – 12:00 \n\n\n\n\n\nMelting &Metallurgy\n\n\n\n\n\nCores &Core Making\n\n\n\n\n\nProductivity & Production Planning
URL:https://foundries.org.za/event/saif-training-program-day-8/
LOCATION:University of Johannesburg\, Cnr Beit & Siemert Streets\, Doornfontein\, Gauteng\, South Africa
CATEGORIES:Cores and Core Making,Metallurgy,Productivity,Training
END:VEVENT
END:VCALENDAR