BEGIN:VCALENDAR
VERSION:2.0
PRODID:-//South African Institute of Foundrymen - ECPv6.15.20//NONSGML v1.0//EN
CALSCALE:GREGORIAN
METHOD:PUBLISH
X-ORIGINAL-URL:https://foundries.org.za
X-WR-CALDESC:Events for South African Institute of Foundrymen
REFRESH-INTERVAL;VALUE=DURATION:PT1H
X-Robots-Tag:noindex
X-PUBLISHED-TTL:PT1H
BEGIN:VTIMEZONE
TZID:Africa/Johannesburg
BEGIN:STANDARD
TZOFFSETFROM:+0200
TZOFFSETTO:+0200
TZNAME:SAST
DTSTART:20240101T000000
END:STANDARD
END:VTIMEZONE
BEGIN:VEVENT
DTSTART;TZID=Africa/Johannesburg:20250621T080000
DTEND;TZID=Africa/Johannesburg:20250621T130000
DTSTAMP:20260424T101126
CREATED:20250509T042953Z
LAST-MODIFIED:20250601T150126Z
UID:14882-1750492800-1750510800@foundries.org.za
SUMMARY:SAIF Technology Program Quarter 2
DESCRIPTION:Q2-Training-Programme-2nd-Update
URL:https://foundries.org.za/event/saif-technology-programme-q2-day-1/
LOCATION:University of Johannesburg\, Cnr Beit & Siemert Streets\, Doornfontein\, Gauteng\, South Africa
CATEGORIES:Fettling,Moulding and Sand,Quality Control,Training
END:VEVENT
END:VCALENDAR