BEGIN:VCALENDAR
VERSION:2.0
PRODID:-//South African Institute of Foundrymen - ECPv6.15.20//NONSGML v1.0//EN
CALSCALE:GREGORIAN
METHOD:PUBLISH
X-WR-CALNAME:South African Institute of Foundrymen
X-ORIGINAL-URL:https://foundries.org.za
X-WR-CALDESC:Events for South African Institute of Foundrymen
REFRESH-INTERVAL;VALUE=DURATION:PT1H
X-Robots-Tag:noindex
X-PUBLISHED-TTL:PT1H
BEGIN:VTIMEZONE
TZID:Africa/Johannesburg
BEGIN:STANDARD
TZOFFSETFROM:+0200
TZOFFSETTO:+0200
TZNAME:SAST
DTSTART:20240101T000000
END:STANDARD
END:VTIMEZONE
BEGIN:VEVENT
DTSTART;TZID=Africa/Johannesburg:20250208T080000
DTEND;TZID=Africa/Johannesburg:20250208T170000
DTSTAMP:20260424T171536
CREATED:20241212T192939Z
LAST-MODIFIED:20250206T192428Z
UID:14213-1739001600-1739034000@foundries.org.za
SUMMARY:SAIF Q1 TRAINING PROGRAM
DESCRIPTION:Dear Members of Industry\,The South African Institute of Foundrymen (SAIF) is pleased to announce three highly commended training courses for Q1 2025 as part of the SAIF Foundry Technology Program. \n\n\n\nRegistrations close: Wednesday\, 29th January \n\n\n\n08 February – 10 May 2025Saturdays: 08:00 – 12:00 \n\n\n\n\n\nMelting &Metallurgy\n\n\n\n\n\nCores &Core Making\n\n\n\n\n\nProductivity & Production Planning
URL:https://foundries.org.za/event/saif-q1-training-program/
LOCATION:University of Johannesburg\, Cnr Beit & Siemert Streets\, Doornfontein\, Gauteng\, South Africa
CATEGORIES:Cores and Core Making,Metallurgy,Productivity,Training
END:VEVENT
BEGIN:VEVENT
DTSTART;TZID=Africa/Johannesburg:20250215T080000
DTEND;TZID=Africa/Johannesburg:20250215T120000
DTSTAMP:20260424T171536
CREATED:20250206T192055Z
LAST-MODIFIED:20250206T192359Z
UID:14647-1739606400-1739620800@foundries.org.za
SUMMARY:SAIF TRAINING PROGRAM DAY 2
DESCRIPTION:Registrations closed \n\n\n\n08 February – 10 MaySaturdays: 08:00 – 12:00 \n\n\n\n\n\nMelting &Metallurgy\n\n\n\n\n\nCores &Core Making\n\n\n\n\n\nProductivity & Production Planning
URL:https://foundries.org.za/event/saif-training-program-day-2/
LOCATION:University of Johannesburg\, Cnr Beit & Siemert Streets\, Doornfontein\, Gauteng\, South Africa
CATEGORIES:Cores and Core Making,Metallurgy,Productivity,Training
END:VEVENT
BEGIN:VEVENT
DTSTART;TZID=Africa/Johannesburg:20250222T080000
DTEND;TZID=Africa/Johannesburg:20250222T120000
DTSTAMP:20260424T171536
CREATED:20250206T192557Z
LAST-MODIFIED:20250206T192558Z
UID:14656-1740211200-1740225600@foundries.org.za
SUMMARY:SAIF TRAINING PROGRAM DAY 3
DESCRIPTION:Registrations closed \n\n\n\n08 February – 10 MaySaturdays: 08:00 – 12:00 \n\n\n\n\n\nMelting &Metallurgy\n\n\n\n\n\nCores &Core Making\n\n\n\n\n\nProductivity & Production Planning
URL:https://foundries.org.za/event/saif-training-program-day-3/
LOCATION:University of Johannesburg\, Cnr Beit & Siemert Streets\, Doornfontein\, Gauteng\, South Africa
CATEGORIES:Cores and Core Making,Metallurgy,Productivity,Training
END:VEVENT
END:VCALENDAR